
BEGIN:VCALENDAR
VERSION:2.0
PRODID:-//National Association of Divorce Professionals - ECPv6.15.18//NONSGML v1.0//EN
CALSCALE:GREGORIAN
METHOD:PUBLISH
X-WR-CALNAME:National Association of Divorce Professionals
X-ORIGINAL-URL:https://thenadp.com
X-WR-CALDESC:Events for National Association of Divorce Professionals
REFRESH-INTERVAL;VALUE=DURATION:PT1H
X-Robots-Tag:noindex
X-PUBLISHED-TTL:PT1H
BEGIN:VTIMEZONE
TZID:America/New_York
BEGIN:DAYLIGHT
TZOFFSETFROM:-0500
TZOFFSETTO:-0400
TZNAME:EDT
DTSTART:20240310T070000
END:DAYLIGHT
BEGIN:STANDARD
TZOFFSETFROM:-0400
TZOFFSETTO:-0500
TZNAME:EST
DTSTART:20241103T060000
END:STANDARD
BEGIN:DAYLIGHT
TZOFFSETFROM:-0500
TZOFFSETTO:-0400
TZNAME:EDT
DTSTART:20250309T070000
END:DAYLIGHT
BEGIN:STANDARD
TZOFFSETFROM:-0400
TZOFFSETTO:-0500
TZNAME:EST
DTSTART:20251102T060000
END:STANDARD
BEGIN:DAYLIGHT
TZOFFSETFROM:-0500
TZOFFSETTO:-0400
TZNAME:EDT
DTSTART:20260308T070000
END:DAYLIGHT
BEGIN:STANDARD
TZOFFSETFROM:-0400
TZOFFSETTO:-0500
TZNAME:EST
DTSTART:20261101T060000
END:STANDARD
BEGIN:DAYLIGHT
TZOFFSETFROM:-0500
TZOFFSETTO:-0400
TZNAME:EDT
DTSTART:20270314T070000
END:DAYLIGHT
BEGIN:STANDARD
TZOFFSETFROM:-0400
TZOFFSETTO:-0500
TZNAME:EST
DTSTART:20271107T060000
END:STANDARD
END:VTIMEZONE
BEGIN:VEVENT
DTSTART;TZID=America/New_York:20260415T170000
DTEND;TZID=America/New_York:20260415T190000
DTSTAMP:20260421T103628
CREATED:20230424T194504Z
LAST-MODIFIED:20251124T181632Z
UID:10001773-1776272400-1776279600@thenadp.com
SUMMARY:Florida | Jacksonville Chapter ABB Social Hour
DESCRIPTION:Join the Jacksonville\, FL Chapter at their in-person ABB Social Hour. \n\n\n\nMix and mingle with local Jacksonville professionals in the legal\, financial\, mental health and real estates fields. Register now and don’t miss this opportunity to grow your network of strategically targeted professionals whose businesses also touch on the divorce process. \n\n\n\n \n\n\n\n\n\n\n Chapter Meeting\n\n\n\nChapter meetings occur monthly and are facilitated by the chapter leadership. In addition to networking and building relationships\, each member has the opportunity to present an NADP ED Talk and provide valuable divorce-specific education  to their fellow chapter members. \n\n\n\n\n\n\n\n\n\n\n\n\n\n\n\nMember RSVP\n\n\nYou must be logged into your NADP account to RSVP. If you are not a member\, please use the guest RSVP form on this page.\n\n                       \n            \n        \n                              Username\n        \n        \n      \n      \n        \n          Password\n          \n            \n            \n              \n            \n          \n        \n      \n            \n         Remember Me\n      \n       \n      \n        \n        \n        \n        \n      \n    \n     \n    \n        \n          Forgot Password        \n    \n\n      \n     \n  \n\n\n\n\n\n\nGuest RSVP\n\n\n\n\n                \n                        \n                             \n							"*" indicates required fields \n                        \n                        \n					Not a member but interested in understanding more about the NADP and how our events work? Simply fill out the form below to join this event and see for yourself. Would you like to invite a non NADP member to this event? Simply complete the form below and they will receive an email with all the info they need to join. \n                    \n                    \n                          \n                    \n                \n                \n                    \n                        Name*\n                            \n                            \n                                                    \n                                                    First Name*\n                                                \n                            \n                            \n                                                    \n                                                    Last Name\n                                                \n                            \n                        Email*\n                            \n                        PhoneProfession*Which professional category best fits?*– Select a Professional Category* –LegalFinancialResidentialMental HealthOtherProfession
URL:https://thenadp.com/event/florida-jacksonville-chapter-abb-social-hour-apr2026/
LOCATION:Bazille\, 2F Nordstrom\, St Johns Town Center\, Florida\, 32246
CATEGORIES:Chapter Meeting
ATTACH;FMTTYPE=image/jpeg:https://thenadp.com/wp-content/uploads/2021/12/nadp-local-chapter-meeting.jpg
ORGANIZER;CN="Carolyn Oyler":MAILTO:Carolyn.oyler@floridanetworkrealty.com
END:VEVENT
BEGIN:VEVENT
DTSTART;TZID=America/New_York:20260311T113000
DTEND;TZID=America/New_York:20260311T130000
DTSTAMP:20260421T103628
CREATED:20230424T194504Z
LAST-MODIFIED:20251216T155617Z
UID:10001823-1773228600-1773234000@thenadp.com
SUMMARY:Florida | Jacksonville Chapter In Person Luncheon
DESCRIPTION:Join the Jacksonville\, FL Chapter at their in-person luncheon. \n\n\n\nMix and mingle with local Jacksonville professionals in the legal\, financial\, mental health and real estates fields. Register now and don’t miss this opportunity to grow your network of strategically targeted professionals whose businesses also touch on the divorce process. \n\n\n\nLOCATION: TBD \n\n\n\n \n\n\n\n\n\n\n Chapter Meeting\n\n\n\nChapter meetings occur monthly and are facilitated by the chapter leadership. In addition to networking and building relationships\, each member has the opportunity to present an NADP ED Talk and provide valuable divorce-specific education  to their fellow chapter members. \n\n\n\n\n\n\n\n\n\n\n\n\n\n\n\nMember RSVP\n\n\nYou must be logged into your NADP account to RSVP. If you are not a member\, please use the guest RSVP form on this page.\n\n                       \n            \n        \n                              Username\n        \n        \n      \n      \n        \n          Password\n          \n            \n            \n              \n            \n          \n        \n      \n            \n         Remember Me\n      \n       \n      \n        \n        \n        \n        \n      \n    \n     \n    \n        \n          Forgot Password        \n    \n\n      \n     \n  \n\n\n\n\n\n\nGuest RSVP\n\n\n\n                \n                        \n                             \n							"*" indicates required fields \n                        \n                        \n					Not a member but interested in understanding more about the NADP and how our events work? Simply fill out the form below to join this event and see for yourself. Would you like to invite a non NADP member to this event? Simply complete the form below and they will receive an email with all the info they need to join. \n                    \n                    \n                          \n                    \n                \n                \n                    \n                        Name*\n                            \n                            \n                                                    \n                                                    First Name*\n                                                \n                            \n                            \n                                                    \n                                                    Last Name\n                                                \n                            \n                        Email*\n                            \n                        PhoneProfession*Which professional category best fits?*– Select a Professional Category* –LegalFinancialResidentialMental HealthOtherProfession
URL:https://thenadp.com/event/florida-jacksonville-chapter-in-person-luncheon-mar2026/
LOCATION:TBD
CATEGORIES:Chapter Meeting
ATTACH;FMTTYPE=image/jpeg:https://thenadp.com/wp-content/uploads/2021/12/nadp-local-chapter-meeting.jpg
ORGANIZER;CN="Carolyn Oyler":MAILTO:Carolyn.oyler@floridanetworkrealty.com
END:VEVENT
BEGIN:VEVENT
DTSTART;TZID=America/New_York:20260304T170000
DTEND;TZID=America/New_York:20260304T190000
DTSTAMP:20260421T103628
CREATED:20230424T194504Z
LAST-MODIFIED:20251118T171850Z
UID:10001772-1772643600-1772650800@thenadp.com
SUMMARY:Florida | Jacksonville Chapter ABB Social Hour
DESCRIPTION:Join the Jacksonville\, FL Chapter at their in-person ABB Social Hour. \n\n\n\nMix and mingle with local Jacksonville professionals in the legal\, financial\, mental health and real estates fields. Register now and don’t miss this opportunity to grow your network of strategically targeted professionals whose businesses also touch on the divorce process. \n\n\n\n \n\n\n\n\n\n\n Chapter Meeting\n\n\n\nChapter meetings occur monthly and are facilitated by the chapter leadership. In addition to networking and building relationships\, each member has the opportunity to present an NADP ED Talk and provide valuable divorce-specific education  to their fellow chapter members. \n\n\n\n\n\n\n\n\n\n\n\n\n\n\n\nMember RSVP\n\n\nYou must be logged into your NADP account to RSVP. If you are not a member\, please use the guest RSVP form on this page.\n\n                       \n            \n        \n                              Username\n        \n        \n      \n      \n        \n          Password\n          \n            \n            \n              \n            \n          \n        \n      \n            \n         Remember Me\n      \n       \n      \n        \n        \n        \n        \n      \n    \n     \n    \n        \n          Forgot Password        \n    \n\n      \n     \n  \n\n\n\n\n\n\nGuest RSVP\n\n\n\n                \n                        \n                             \n							"*" indicates required fields \n                        \n                        \n					Not a member but interested in understanding more about the NADP and how our events work? Simply fill out the form below to join this event and see for yourself. Would you like to invite a non NADP member to this event? Simply complete the form below and they will receive an email with all the info they need to join. \n                    \n                    \n                          \n                    \n                \n                \n                    \n                        Name*\n                            \n                            \n                                                    \n                                                    First Name*\n                                                \n                            \n                            \n                                                    \n                                                    Last Name\n                                                \n                            \n                        Email*\n                            \n                        PhoneProfession*Which professional category best fits?*– Select a Professional Category* –LegalFinancialResidentialMental HealthOtherProfession
URL:https://thenadp.com/event/florida-jacksonville-chapter-abb-social-hour-mar2026/
LOCATION:Bazille\, 2F Nordstrom\, St Johns Town Center\, Florida\, 32246
CATEGORIES:Chapter Meeting
ATTACH;FMTTYPE=image/jpeg:https://thenadp.com/wp-content/uploads/2021/12/nadp-local-chapter-meeting.jpg
ORGANIZER;CN="Carolyn Oyler":MAILTO:Carolyn.oyler@floridanetworkrealty.com
END:VEVENT
BEGIN:VEVENT
DTSTART;TZID=America/New_York:20260211T170000
DTEND;TZID=America/New_York:20260211T190000
DTSTAMP:20260421T103628
CREATED:20230424T194504Z
LAST-MODIFIED:20251118T164942Z
UID:10001771-1770829200-1770836400@thenadp.com
SUMMARY:Florida | Jacksonville Chapter ABB Social Hour
DESCRIPTION:Join the Jacksonville\, FL Chapter at their in-person ABB Social Hour. \n\n\n\nMix and mingle with local Jacksonville professionals in the legal\, financial\, mental health and real estates fields. Register now and don’t miss this opportunity to grow your network of strategically targeted professionals whose businesses also touch on the divorce process. \n\n\n\n \n\n\n\n\n\n\n Chapter Meeting\n\n\n\nChapter meetings occur monthly and are facilitated by the chapter leadership. In addition to networking and building relationships\, each member has the opportunity to present an NADP ED Talk and provide valuable divorce-specific education  to their fellow chapter members. \n\n\n\n\n\n\n\n\n\n\n\n\n\n\n\nMember RSVP\n\n\nYou must be logged into your NADP account to RSVP. If you are not a member\, please use the guest RSVP form on this page.\n\n                       \n            \n        \n                              Username\n        \n        \n      \n      \n        \n          Password\n          \n            \n            \n              \n            \n          \n        \n      \n            \n         Remember Me\n      \n       \n      \n        \n        \n        \n        \n      \n    \n     \n    \n        \n          Forgot Password        \n    \n\n      \n     \n  \n\n\n\n\n\n\nGuest RSVP\n\n\n\n                \n                        \n                             \n							"*" indicates required fields \n                        \n                        \n					Not a member but interested in understanding more about the NADP and how our events work? Simply fill out the form below to join this event and see for yourself. Would you like to invite a non NADP member to this event? Simply complete the form below and they will receive an email with all the info they need to join. \n                    \n                    \n                          \n                    \n                \n                \n                    \n                        Name*\n                            \n                            \n                                                    \n                                                    First Name*\n                                                \n                            \n                            \n                                                    \n                                                    Last Name\n                                                \n                            \n                        Email*\n                            \n                        PhoneProfession*Which professional category best fits?*– Select a Professional Category* –LegalFinancialResidentialMental HealthOtherProfession
URL:https://thenadp.com/event/florida-jacksonville-chapter-abb-social-hour-feb2026/
LOCATION:Bazille\, 2F Nordstrom\, St Johns Town Center\, Florida\, 32246
CATEGORIES:Chapter Meeting
ATTACH;FMTTYPE=image/jpeg:https://thenadp.com/wp-content/uploads/2021/12/nadp-local-chapter-meeting.jpg
ORGANIZER;CN="Carolyn Oyler":MAILTO:Carolyn.oyler@floridanetworkrealty.com
END:VEVENT
BEGIN:VEVENT
DTSTART;TZID=America/New_York:20260114T170000
DTEND;TZID=America/New_York:20260114T190000
DTSTAMP:20260421T103628
CREATED:20230424T194504Z
LAST-MODIFIED:20251118T163312Z
UID:10001770-1768410000-1768417200@thenadp.com
SUMMARY:Florida | Jacksonville Chapter ABB Social Hour
DESCRIPTION:Join the Jacksonville\, FL Chapter at their in-person ABB Social Hour. \n\n\n\nMix and mingle with local Jacksonville professionals in the legal\, financial\, mental health and real estates fields. Register now and don’t miss this opportunity to grow your network of strategically targeted professionals whose businesses also touch on the divorce process. \n\n\n\n \n\n\n\n\n\n\n Chapter Meeting\n\n\n\nChapter meetings occur monthly and are facilitated by the chapter leadership. In addition to networking and building relationships\, each member has the opportunity to present an NADP ED Talk and provide valuable divorce-specific education  to their fellow chapter members. \n\n\n\n\n\n\n\n\n\n\n\n\n\n\n\nMember RSVP\n\n\nYou must be logged into your NADP account to RSVP. If you are not a member\, please use the guest RSVP form on this page.\n\n                       \n            \n        \n                              Username\n        \n        \n      \n      \n        \n          Password\n          \n            \n            \n              \n            \n          \n        \n      \n            \n         Remember Me\n      \n       \n      \n        \n        \n        \n        \n      \n    \n     \n    \n        \n          Forgot Password        \n    \n\n      \n     \n  \n\n\n\n\n\n\nGuest RSVP\n\n\n\n                \n                        \n                             \n							"*" indicates required fields \n                        \n                        \n					Not a member but interested in understanding more about the NADP and how our events work? Simply fill out the form below to join this event and see for yourself. Would you like to invite a non NADP member to this event? Simply complete the form below and they will receive an email with all the info they need to join. \n                    \n                    \n                          \n                    \n                \n                \n                    \n                        Name*\n                            \n                            \n                                                    \n                                                    First Name*\n                                                \n                            \n                            \n                                                    \n                                                    Last Name\n                                                \n                            \n                        Email*\n                            \n                        PhoneProfession*Which professional category best fits?*– Select a Professional Category* –LegalFinancialResidentialMental HealthOtherProfession
URL:https://thenadp.com/event/florida-jacksonville-chapter-abb-social-hour-jan2026/
LOCATION:Bazille\, 2F Nordstrom\, St Johns Town Center\, Florida\, 32246
CATEGORIES:Chapter Meeting
ATTACH;FMTTYPE=image/jpeg:https://thenadp.com/wp-content/uploads/2021/12/nadp-local-chapter-meeting.jpg
ORGANIZER;CN="Carolyn Oyler":MAILTO:Carolyn.oyler@floridanetworkrealty.com
END:VEVENT
BEGIN:VEVENT
DTSTART;TZID=America/New_York:20251113T170000
DTEND;TZID=America/New_York:20251113T190000
DTSTAMP:20260421T103628
CREATED:20230424T194504Z
LAST-MODIFIED:20251105T185608Z
UID:10001764-1763053200-1763060400@thenadp.com
SUMMARY:Florida | Jacksonville Chapter ABB Social Hour
DESCRIPTION:Join the Jacksonville\, FL Chapter at their in-person ABB Social Hour. \n\n\n\nMix and mingle with local Jacksonville professionals in the legal\, financial\, mental health and real estates fields. Register now and don’t miss this opportunity to grow your network of strategically targeted professionals whose businesses also touch on the divorce process. \n\n\n\n \n\n\n\n\n\n\n Chapter Meeting\n\n\n\nChapter meetings occur monthly and are facilitated by the chapter leadership. In addition to networking and building relationships\, each member has the opportunity to present an NADP ED Talk and provide valuable divorce-specific education  to their fellow chapter members. \n\n\n\n\n\n\n\n\n\n\n\n\n\n\n\nMember RSVP\n\n\nYou must be logged into your NADP account to RSVP. If you are not a member\, please use the guest RSVP form on this page.\n\n                       \n            \n        \n                              Username\n        \n        \n      \n      \n        \n          Password\n          \n            \n            \n              \n            \n          \n        \n      \n            \n         Remember Me\n      \n       \n      \n        \n        \n        \n        \n      \n    \n     \n    \n        \n          Forgot Password        \n    \n\n      \n     \n  \n\n\n\n\n\n\nGuest RSVP\n\n\n\n                \n                        \n                             \n							"*" indicates required fields \n                        \n                        \n					Not a member but interested in understanding more about the NADP and how our events work? Simply fill out the form below to join this event and see for yourself. Would you like to invite a non NADP member to this event? Simply complete the form below and they will receive an email with all the info they need to join. \n                    \n                    \n                          \n                    \n                \n                \n                    \n                        Name*\n                            \n                            \n                                                    \n                                                    First Name*\n                                                \n                            \n                            \n                                                    \n                                                    Last Name\n                                                \n                            \n                        Email*\n                            \n                        PhoneProfession*Which professional category best fits?*– Select a Professional Category* –LegalFinancialResidentialMental HealthOtherProfession
URL:https://thenadp.com/event/florida-jacksonville-chapter-abb-social-hour-november2025/
LOCATION:Bazille\, 2F Nordstrom\, St Johns Town Center\, Florida\, 32246
CATEGORIES:Chapter Meeting
ATTACH;FMTTYPE=image/jpeg:https://thenadp.com/wp-content/uploads/2021/12/nadp-local-chapter-meeting.jpg
ORGANIZER;CN="Carolyn Oyler":MAILTO:Carolyn.oyler@floridanetworkrealty.com
END:VEVENT
END:VCALENDAR