
BEGIN:VCALENDAR
VERSION:2.0
PRODID:-//National Association of Divorce Professionals - ECPv6.15.18//NONSGML v1.0//EN
CALSCALE:GREGORIAN
METHOD:PUBLISH
X-ORIGINAL-URL:https://thenadp.com
X-WR-CALDESC:Events for National Association of Divorce Professionals
REFRESH-INTERVAL;VALUE=DURATION:PT1H
X-Robots-Tag:noindex
X-PUBLISHED-TTL:PT1H
BEGIN:VTIMEZONE
TZID:America/New_York
BEGIN:DAYLIGHT
TZOFFSETFROM:-0500
TZOFFSETTO:-0400
TZNAME:EDT
DTSTART:20250309T070000
END:DAYLIGHT
BEGIN:STANDARD
TZOFFSETFROM:-0400
TZOFFSETTO:-0500
TZNAME:EST
DTSTART:20251102T060000
END:STANDARD
BEGIN:DAYLIGHT
TZOFFSETFROM:-0500
TZOFFSETTO:-0400
TZNAME:EDT
DTSTART:20260308T070000
END:DAYLIGHT
BEGIN:STANDARD
TZOFFSETFROM:-0400
TZOFFSETTO:-0500
TZNAME:EST
DTSTART:20261101T060000
END:STANDARD
BEGIN:DAYLIGHT
TZOFFSETFROM:-0500
TZOFFSETTO:-0400
TZNAME:EDT
DTSTART:20270314T070000
END:DAYLIGHT
BEGIN:STANDARD
TZOFFSETFROM:-0400
TZOFFSETTO:-0500
TZNAME:EST
DTSTART:20271107T060000
END:STANDARD
END:VTIMEZONE
BEGIN:VEVENT
DTSTART;TZID=America/New_York:20260120T120000
DTEND;TZID=America/New_York:20260120T130000
DTSTAMP:20260421T050819
CREATED:20230508T213054Z
LAST-MODIFIED:20260112T162057Z
UID:10001780-1768910400-1768914000@thenadp.com
SUMMARY:Monthly Member Meeting | The Split Films
DESCRIPTION:Join us for a meaningful expert panel discussion centered on SPLIT and SPLIT UP\, two powerful films that give an honest look at how children experience divorce. This live Zoom event will feature an expert panel on Children and Divorce\, including Ellen Bruno\, the director of the SPLIT films\, along with professionals from the legal\, financial\, mental health\, and residential arenas. \n\n\n\nWe encourage attendees to watch both films before the event so they can get the most value from the conversation. \n\n\n\n\n\n\nWatch SPLIT – The Early Years\n\n\n\n\n \n\n\n\n\nWatch SPLIT UP – The Teen Years\n\n\n\n\n\n\n1 CE credit for NYS Social Workers and Psychologists (provided by Family Kind) \n\n\n\nFamily Kind is a nonprofit organization empowering children\, parents and couples before\, during and after separation or divorce — no matter their family configuration\, or financial situation.https://www.familykind.org/ \n\n\n\n \n\n\n\n\n\n\n\n\n\n\n\n\nMember RSVP\n\n\nYou must be logged into your NADP account to RSVP. If you are not a member\, please use the guest RSVP form on this page.\n\n                       \n            \n        \n                              Username\n        \n        \n      \n      \n        \n          Password\n          \n            \n            \n              \n            \n          \n        \n      \n            \n         Remember Me\n      \n       \n      \n        \n        \n        \n        \n      \n    \n     \n    \n        \n          Forgot Password        \n    \n\n      \n     \n  \n\n\n\n \n\n\n\n\n\n\nGuest RSVP\n\n\n\n\n                \n                        \n                             \n							"*" indicates required fields \n                        \n                        \n					Not a member but interested in understanding more about the NADP and how our events work? Simply fill out the form below to join this event and see for yourself. Would you like to invite a non NADP member to this event? Simply complete the form below and they will receive an email with all the info they need to join. \n                    \n                    \n                          \n                    \n                \n                \n                    \n                        Name*\n                            \n                            \n                                                    \n                                                    First Name*\n                                                \n                            \n                            \n                                                    \n                                                    Last Name\n                                                \n                            \n                        Email*\n                            \n                        PhoneProfession*Which professional category best fits?*– Select a Professional Category* –LegalFinancialResidentialMental HealthOtherProfession
URL:https://thenadp.com/event/monthly-member-meeting-the-split-films/
CATEGORIES:Member Meeting
ATTACH;FMTTYPE=image/jpeg:https://thenadp.com/wp-content/uploads/2022/01/monthly-member-meetings-alt-624x351-sDkJVt.tmp_.jpg
ORGANIZER;CN="Nicole Shapiro":MAILTO:nicole@thendap.com
LOCATION:https://thenadp.com/event/monthly-member-meeting-the-split-films/
END:VEVENT
END:VCALENDAR