
BEGIN:VCALENDAR
VERSION:2.0
PRODID:-//National Association of Divorce Professionals - ECPv6.15.18//NONSGML v1.0//EN
CALSCALE:GREGORIAN
METHOD:PUBLISH
X-WR-CALNAME:National Association of Divorce Professionals
X-ORIGINAL-URL:https://thenadp.com
X-WR-CALDESC:Events for National Association of Divorce Professionals
REFRESH-INTERVAL;VALUE=DURATION:PT1H
X-Robots-Tag:noindex
X-PUBLISHED-TTL:PT1H
BEGIN:VTIMEZONE
TZID:America/New_York
BEGIN:DAYLIGHT
TZOFFSETFROM:-0500
TZOFFSETTO:-0400
TZNAME:EDT
DTSTART:20240310T070000
END:DAYLIGHT
BEGIN:STANDARD
TZOFFSETFROM:-0400
TZOFFSETTO:-0500
TZNAME:EST
DTSTART:20241103T060000
END:STANDARD
BEGIN:DAYLIGHT
TZOFFSETFROM:-0500
TZOFFSETTO:-0400
TZNAME:EDT
DTSTART:20250309T070000
END:DAYLIGHT
BEGIN:STANDARD
TZOFFSETFROM:-0400
TZOFFSETTO:-0500
TZNAME:EST
DTSTART:20251102T060000
END:STANDARD
BEGIN:DAYLIGHT
TZOFFSETFROM:-0500
TZOFFSETTO:-0400
TZNAME:EDT
DTSTART:20260308T070000
END:DAYLIGHT
BEGIN:STANDARD
TZOFFSETFROM:-0400
TZOFFSETTO:-0500
TZNAME:EST
DTSTART:20261101T060000
END:STANDARD
END:VTIMEZONE
BEGIN:VEVENT
DTSTART;TZID=America/New_York:20251118T120000
DTEND;TZID=America/New_York:20251118T130000
DTSTAMP:20260421T131234
CREATED:20230508T213054Z
LAST-MODIFIED:20251030T200744Z
UID:10001759-1763467200-1763470800@thenadp.com
SUMMARY:Monthly Member Meeting | Mediating and Collaborating in the Face of Financial Betrayal
DESCRIPTION:Approved for:1 General CLE Credit1 Marital and Family Law Certification Credit1 CDFA CE Credit \n\n\n\nFL Bar CLE approved exclusively for NADP members. Reciprocity may be available in your state—be sure to verify requirements. \n\n\n\n\n\n\n\nFinancial Betrayal can occur for many different reasons. Not all of which arise out of an intention to harm. This program will define what financial betrayal is and how mediators\, collaborative professionals and a divorce team who is committed to keeping their clients out of court should deal with it. Financial betrayal will significantly affect a marriage and will certainly impact the divorce process or postnuptial agreement process. As a divorce specialist\, the progress of the case will be hampered unless you recognize the issues and address them so that both parties feel comfortable enough to proceed. \n\n\n\nKey Takeaways:A. Recognize financial betrayalB. Understand the impact of financial betrayal on the marriage and the divorce process.C. Develop tools to help clients feel safer as they negotiate postnuptial or divorce agreements. \n\n\n\nSpeakers Bio:  \n\n\n\nIvy H. Menchel\, CFP®\, CDFA®\, CBEC®\, WFAA®\, is the founder and president of Family Wealth Planning Partners. With over 30 years of experience in financial services\, Ivy focuses her practice on guiding individuals and their divorce teams through the complex financial aspects of divorce. She is uniquely qualified as a Certified Divorce Financial Analyst\, Certified Financial Planner\, Certified Business Exit Consultant and Whole Family Advisor Associate\, allowing her to take a comprehensive\, strategic approach to each client’s financial future. Ivy works closely with attorneys and mediators\, embracing the team approach\, to help clients make informed\, equitable decisions during times of transition. Ivy was drawn to this work after witnessing the emotional and financial toll of her own parents’ divorce. Today\, she combines professional expertise with personal insight to empower clients to navigate divorce with clarity and confidence. Trained in all three divorce processes—litigation\, mediation\, and collaborative—she emphasizes education and preparation to support sound\, informed decision-making. Ivy is also a respected speaker and educator\, and she remains active in several professional organizations within the financial and divorce communities.   \n\n\n\nAndrea Vacca\, Esq. is the founder of Vacca Family Law Group\, a New York City law firm that focuses exclusively on non-adversarial divorce and family law matters. A leader in collaborative law and mediation\, Andrea helps clients end their marriages with dignity\, respect\, and a focus on the future rather than the fight. Her practice is grounded in the belief that divorce doesn’t have to destroy families—that with the right process and professional support\, couples can separate thoughtfully while preserving their emotional and financial well-being. \n\n\n\nAndrea is a Certified Mediator\, a Collaborative Divorce Attorney\, and a past president of the New York Association of Collaborative Professionals. She frequently speaks and writes about collaborative law\, mediation\, and the importance of interdisciplinary teamwork in family transitions. Her insights have been featured in outlets including The New York Times\, Business Insider\, and HuffPost\, and she regularly trains and mentors professionals in non-adversarial approaches to divorce. \n\n\n\nThrough her work\, Andrea continues to champion a new paradigm for family law—one that replaces conflict with communication and empowers clients to move forward with confidence and compassion. \n\n\n\n**Guests are welcome to attend one Monthly Member Meeting. To attend again\, we invite you to join our association** \n\n\n\n \n\n\n\n \n\n\n\n\n\n\n\n\n\n\n\n\nMember RSVP\n\n\nYou must be logged into your NADP account to RSVP. If you are not a member\, please use the guest RSVP form on this page.\n\n                       \n            \n        \n                              Username\n        \n        \n      \n      \n        \n          Password\n          \n            \n            \n              \n            \n          \n        \n      \n            \n         Remember Me\n      \n       \n      \n        \n        \n        \n        \n      \n    \n     \n    \n        \n          Forgot Password        \n    \n\n      \n     \n  \n\n\n\n \n\n\n\n\n\n\nGuest RSVP\n\n\n\n\n                \n                        \n                             \n							"*" indicates required fields \n                        \n                        \n					Not a member but interested in understanding more about the NADP and how our events work? Simply fill out the form below to join this event and see for yourself. Would you like to invite a non NADP member to this event? Simply complete the form below and they will receive an email with all the info they need to join. \n                    \n                    \n                          \n                    \n                \n                \n                    \n                        Name*\n                            \n                            \n                                                    \n                                                    First Name*\n                                                \n                            \n                            \n                                                    \n                                                    Last Name\n                                                \n                            \n                        Email*\n                            \n                        PhoneProfession*Which professional category best fits?*– Select a Professional Category* –LegalFinancialResidentialMental HealthOtherProfession
URL:https://thenadp.com/event/monthly-member-meeting-november2025/
CATEGORIES:Member Meeting
ATTACH;FMTTYPE=image/jpeg:https://thenadp.com/wp-content/uploads/2022/01/monthly-member-meetings-alt-624x351-sDkJVt.tmp_.jpg
ORGANIZER;CN="Nicole Shapiro":MAILTO:nicole@thendap.com
LOCATION:https://thenadp.com/event/monthly-member-meeting-november2025/
END:VEVENT
END:VCALENDAR